BEGIN:VCALENDAR
VERSION:2.0
PRODID:-//BRF Pionen - ECPv5.2.1//NONSGML v1.0//EN
CALSCALE:GREGORIAN
METHOD:PUBLISH
X-WR-CALNAME:BRF Pionen
X-ORIGINAL-URL:https://pionen.hsbbrfwebb.se
X-WR-CALDESC:Events for BRF Pionen
BEGIN:VTIMEZONE
TZID:Europe/Paris
BEGIN:DAYLIGHT
TZOFFSETFROM:+0100
TZOFFSETTO:+0200
TZNAME:CEST
DTSTART:20180325T010000
END:DAYLIGHT
BEGIN:STANDARD
TZOFFSETFROM:+0200
TZOFFSETTO:+0100
TZNAME:CET
DTSTART:20181028T010000
END:STANDARD
END:VTIMEZONE
BEGIN:VEVENT
DTSTART;TZID=Europe/Paris:20180517T190000
DTEND;TZID=Europe/Paris:20180517T203000
DTSTAMP:20260421T111741
CREATED:20180517T095149Z
LAST-MODIFIED:20180517T095149Z
UID:1022-1526583600-1526589000@pionen.hsbbrfwebb.se
SUMMARY:Årsstämma BRF Pionen 197
DESCRIPTION:Styrelsen välkomnar medlemmar till vår års stämma 2018. \nPlats: Hotell Rosenberg i Åstorp \nKl: 19.00 \n  \nInformation om anmälan görs på traditionell vis. \n  \nVälkomna!
URL:https://pionen.hsbbrfwebb.se/evenemang/arsstamma-brf-pionen-197/
LOCATION:Hotell Rosenberg
END:VEVENT
END:VCALENDAR